BEGIN:VCALENDAR
VERSION:2.0
PRODID:-//wp-events-plugin.com//7.2.3.1//EN
BEGIN:VEVENT
UID:19@ethnicproviders.org
DTSTART:20250510T080000Z
DTEND:20250510T110000Z
DTSTAMP:20250509T232828Z
URL:https://ethnicproviders.org/events/general-meeting-2/
SUMMARY:General Meeting
DESCRIPTION:🗓️ MEPN General Membership Meeting\nDate: Tuesday\, June 1
 8\, 2025Time: 10:00 AM – 12:00 PMLocation: MEPN Office – 1103 Burnsvil
 le Parkway\, Suite 203\, Burnsville\, MN 55337Format: In-Person &amp\; Zoo
 m Hybrid (Link will be sent to registered participants)\n\n\n\n\n🧭 Agen
 da Highlights:\n\n 	\nWelcome &amp\; Member Introductions\n\n 	\nOrganizat
 ional Updates &amp\; Strategic Priorities\n\n 	\nLegislative &amp\; Advoca
 cy Updates\n\n 	\nMember Spotlights: Provider Success Stories\n\n 	\nUpcom
 ing Events\, Training\, and Partnership Opportunities\n\n 	\nOpen Forum &a
 mp\; Q&amp\;A\n\n\n\n\n\n✅ Who Should Attend:\n\n 	\nRegular\, Provider\
 , and Business Members\n\n 	\nProspective Members\n\n 	\nStrategic Partner
 s &amp\; Community Stakeholders\n\n 	\nStudents and Emerging Professionals
  in Healthcare &amp\; Human Services\n\n\n\n\n\n💬 Why Attend?\nStay inf
 ormed on MEPN initiatives\, connect with other members\, and help shape th
 e future of equitable care for Minnesota’s diverse communities.\n\n\n\n
 🔗 RSVP Required:Register Here (Insert link)\n📩 Questions?Email us at
 : info@mepnmn.org
CATEGORIES:Seminars
END:VEVENT
END:VCALENDAR